Package: uSORT Version: 1.33.0 Command: /home/biocbuild/R/R/bin/R CMD build --keep-empty-dirs --no-resave-data uSORT StartedAt: 2025-01-28 03:06:15 -0000 (Tue, 28 Jan 2025) EndedAt: 2025-01-28 03:06:53 -0000 (Tue, 28 Jan 2025) EllapsedTime: 38.0 seconds RetCode: 0 Status: OK PackageFile: uSORT_1.33.0.tar.gz PackageFileSize: 2.837 MiB