Package: uSORT Version: 1.33.0 Command: /Library/Frameworks/R.framework/Resources/bin/R CMD build --keep-empty-dirs --no-resave-data uSORT StartedAt: 2025-01-31 17:53:22 -0500 (Fri, 31 Jan 2025) EndedAt: 2025-01-31 17:53:38 -0500 (Fri, 31 Jan 2025) EllapsedTime: 15.2 seconds RetCode: 0 Status: OK PackageFile: uSORT_1.33.0.tar.gz PackageFileSize: 2.814 MiB