Package: txcutr Version: 1.13.0 Command: /home/biocbuild/R/R/bin/R CMD check --install=check:txcutr.install-out.txt --library=/home/biocbuild/R/R/site-library --no-vignettes --timings txcutr_1.13.0.tar.gz StartedAt: 2025-01-27 13:44:23 -0000 (Mon, 27 Jan 2025) EndedAt: 2025-01-27 13:56:03 -0000 (Mon, 27 Jan 2025) EllapsedTime: 699.4 seconds RetCode: 0 Status: WARNINGS CheckDir: txcutr.Rcheck Warnings: 5