Package: tripr Version: 1.13.0 Command: rm -rf tripr.buildbin-libdir && mkdir tripr.buildbin-libdir && E:\biocbuild\bbs-3.21-bioc\R\bin\R.exe CMD INSTALL --build --library=tripr.buildbin-libdir tripr_1.13.0.tar.gz StartedAt: 2025-02-01 08:26:52 -0500 (Sat, 01 Feb 2025) EndedAt: 2025-02-01 08:27:52 -0500 (Sat, 01 Feb 2025) EllapsedTime: 60.7 seconds RetCode: 0 Status: OK PackageFile: tripr_1.13.0.zip PackageFileSize: 4.066 MiB