Package: trigger Version: 1.53.0 Command: /home/biocbuild/bbs-3.21-bioc/R/bin/R CMD INSTALL trigger StartedAt: 2025-01-31 15:49:54 -0500 (Fri, 31 Jan 2025) EndedAt: 2025-01-31 15:49:55 -0500 (Fri, 31 Jan 2025) EllapsedTime: 1.0 seconds RetCode: 1 Status: ERROR