Package: treekoR Version: 1.15.0 Command: chmod a+r treekoR -R && E:\biocbuild\bbs-3.21-bioc\R\bin\R.exe CMD build --keep-empty-dirs --no-resave-data treekoR StartedAt: 2025-01-31 21:54:15 -0500 (Fri, 31 Jan 2025) EndedAt: 2025-01-31 21:56:03 -0500 (Fri, 31 Jan 2025) EllapsedTime: 109.0 seconds RetCode: 0 Status: OK PackageFile: treekoR_1.15.0.tar.gz PackageFileSize: 1.58 MiB