Package: treeio Version: 1.31.0 Command: /home/biocbuild/bbs-3.21-bioc/R/bin/R CMD check --install=check:treeio.install-out.txt --library=/home/biocbuild/bbs-3.21-bioc/R/site-library --timings treeio_1.31.0.tar.gz StartedAt: 2025-02-01 03:23:56 -0500 (Sat, 01 Feb 2025) EndedAt: 2025-02-01 03:25:11 -0500 (Sat, 01 Feb 2025) EllapsedTime: 75.1 seconds RetCode: 0 Status: OK CheckDir: treeio.Rcheck Warnings: 0