Package: treeclimbR Version: 1.3.1 Command: rm -rf treeclimbR.buildbin-libdir && mkdir treeclimbR.buildbin-libdir && E:\biocbuild\bbs-3.21-bioc\R\bin\R.exe CMD INSTALL --build --library=treeclimbR.buildbin-libdir treeclimbR_1.3.1.tar.gz StartedAt: 2025-02-01 08:26:17 -0500 (Sat, 01 Feb 2025) EndedAt: 2025-02-01 08:27:05 -0500 (Sat, 01 Feb 2025) EllapsedTime: 48.3 seconds RetCode: 0 Status: OK PackageFile: treeclimbR_1.3.1.zip PackageFileSize: 730.9 KiB