Package: treeclimbR Version: 1.3.1 Command: /Library/Frameworks/R.framework/Resources/bin/R CMD INSTALL treeclimbR StartedAt: 2025-01-31 15:45:56 -0500 (Fri, 31 Jan 2025) EndedAt: 2025-01-31 15:46:43 -0500 (Fri, 31 Jan 2025) EllapsedTime: 47.2 seconds RetCode: 0 Status: OK