Package: treeclimbR Version: 1.3.1 Command: /Library/Frameworks/R.framework/Resources/bin/R CMD check --install=check:treeclimbR.install-out.txt --library=/Library/Frameworks/R.framework/Resources/library --no-vignettes --timings treeclimbR_1.3.1.tar.gz StartedAt: 2025-01-31 21:51:24 -0500 (Fri, 31 Jan 2025) EndedAt: 2025-01-31 21:53:27 -0500 (Fri, 31 Jan 2025) EllapsedTime: 122.4 seconds RetCode: 0 Status: OK CheckDir: treeclimbR.Rcheck Warnings: 0