Package: traviz Version: 1.13.0 Command: /home/biocbuild/bbs-3.21-bioc/R/bin/R CMD check --install=check:traviz.install-out.txt --library=/home/biocbuild/bbs-3.21-bioc/R/site-library --timings traviz_1.13.0.tar.gz StartedAt: 2025-02-01 03:23:02 -0500 (Sat, 01 Feb 2025) EndedAt: 2025-02-01 03:27:08 -0500 (Sat, 01 Feb 2025) EllapsedTime: 246.3 seconds RetCode: 1 Status: ERROR CheckDir: traviz.Rcheck Warnings: NA