Package: traviz Version: 1.13.0 Command: /Library/Frameworks/R.framework/Resources/bin/R CMD build --keep-empty-dirs --no-resave-data traviz StartedAt: 2025-01-31 17:51:26 -0500 (Fri, 31 Jan 2025) EndedAt: 2025-01-31 17:51:45 -0500 (Fri, 31 Jan 2025) EllapsedTime: 19.2 seconds RetCode: 0 Status: OK PackageFile: traviz_1.13.0.tar.gz PackageFileSize: 3.639 MiB