Package: transomics2cytoscape Version: 1.17.0 Command: rm -rf transomics2cytoscape.buildbin-libdir && mkdir transomics2cytoscape.buildbin-libdir && E:\biocbuild\bbs-3.21-bioc\R\bin\R.exe CMD INSTALL --build --library=transomics2cytoscape.buildbin-libdir transomics2cytoscape_1.17.0.tar.gz StartedAt: 2025-02-01 08:26:01 -0500 (Sat, 01 Feb 2025) EndedAt: 2025-02-01 08:26:29 -0500 (Sat, 01 Feb 2025) EllapsedTime: 27.4 seconds RetCode: 0 Status: OK PackageFile: transomics2cytoscape_1.17.0.zip PackageFileSize: 11.84 MiB