Package: transomics2cytoscape Version: 1.17.0 Maintainer: Kozo Nishida MaintainerEmail: kozo.nishida at gmail.com git_url: https://git.bioconductor.org/packages/transomics2cytoscape git_branch: devel git_last_commit: 85fc186 git_last_commit_date: 2024-10-29 10:49:04 -0500 (Tue, 29 Oct 2024)