Package: transite Version: 1.25.0 Command: E:\biocbuild\bbs-3.21-bioc\R\bin\R.exe CMD check --no-multiarch --install=check:transite.install-out.txt --library=E:\biocbuild\bbs-3.21-bioc\R\library --no-vignettes --timings transite_1.25.0.tar.gz StartedAt: 2025-02-01 05:55:01 -0500 (Sat, 01 Feb 2025) EndedAt: 2025-02-01 06:03:10 -0500 (Sat, 01 Feb 2025) EllapsedTime: 489.5 seconds RetCode: 0 Status: OK CheckDir: transite.Rcheck Warnings: 0