Package: transcriptR Version: 1.35.0 Command: /Library/Frameworks/R.framework/Resources/bin/R CMD check --install=check:transcriptR.install-out.txt --library=/Library/Frameworks/R.framework/Resources/library --no-vignettes --timings transcriptR_1.35.0.tar.gz StartedAt: 2025-01-31 23:37:55 -0500 (Fri, 31 Jan 2025) EndedAt: 2025-01-31 23:45:00 -0500 (Fri, 31 Jan 2025) EllapsedTime: 424.7 seconds RetCode: 0 Status: OK CheckDir: transcriptR.Rcheck Warnings: 0