Package: tracktables Version: 1.41.0 Command: /home/biocbuild/R/R/bin/R CMD check --install=check:tracktables.install-out.txt --library=/home/biocbuild/R/R/site-library --no-vignettes --timings tracktables_1.41.0.tar.gz StartedAt: 2025-01-28 16:13:40 -0000 (Tue, 28 Jan 2025) EndedAt: 2025-01-28 16:16:33 -0000 (Tue, 28 Jan 2025) EllapsedTime: 172.2 seconds RetCode: 0 Status: WARNINGS CheckDir: tracktables.Rcheck Warnings: 1