Package: tracktables Version: 1.41.0 Command: /home/biocbuild/R/R/bin/R CMD build --keep-empty-dirs --no-resave-data tracktables StartedAt: 2025-01-28 02:59:06 -0000 (Tue, 28 Jan 2025) EndedAt: 2025-01-28 02:59:34 -0000 (Tue, 28 Jan 2025) EllapsedTime: 28.0 seconds RetCode: 0 Status: OK PackageFile: tracktables_1.41.0.tar.gz PackageFileSize: 354.2 KiB