Package: trackViewer Version: 1.43.6 Command: /home/biocbuild/bbs-3.21-bioc/R/bin/R CMD check --install=check:trackViewer.install-out.txt --library=/home/biocbuild/bbs-3.21-bioc/R/site-library --timings trackViewer_1.43.6.tar.gz StartedAt: 2025-02-01 03:20:14 -0500 (Sat, 01 Feb 2025) EndedAt: 2025-02-01 03:40:26 -0500 (Sat, 01 Feb 2025) EllapsedTime: 1212.5 seconds RetCode: 0 Status: OK CheckDir: trackViewer.Rcheck Warnings: 0