Package: topdownr Version: 1.29.0 Command: rm -rf topdownr.buildbin-libdir && mkdir topdownr.buildbin-libdir && /Users/biocbuild/BBS/utils/build-universal.sh topdownr_1.29.0.tar.gz /Library/Frameworks/R.framework/Resources/bin/R topdownr.buildbin-libdir StartedAt: 2025-02-01 00:43:41 -0500 (Sat, 01 Feb 2025) EndedAt: 2025-02-01 00:44:41 -0500 (Sat, 01 Feb 2025) EllapsedTime: 59.5 seconds RetCode: 0 Status: OK PackageFile: topdownr_1.29.0.tgz PackageFileSize: 2.312 MiB