Package: topconfects Version: 1.23.2 Command: /home/biocbuild/R/R/bin/R CMD INSTALL topconfects StartedAt: 2025-01-29 19:37:02 -0000 (Wed, 29 Jan 2025) EndedAt: 2025-01-29 19:37:08 -0000 (Wed, 29 Jan 2025) EllapsedTime: 5.6 seconds RetCode: 0 Status: OK