Package: topGO Version: 2.59.0 Command: E:\biocbuild\bbs-3.21-bioc\R\bin\R.exe CMD check --no-multiarch --install=check:topGO.install-out.txt --library=E:\biocbuild\bbs-3.21-bioc\R\library --no-vignettes --timings topGO_2.59.0.tar.gz StartedAt: 2025-02-01 05:53:04 -0500 (Sat, 01 Feb 2025) EndedAt: 2025-02-01 05:55:39 -0500 (Sat, 01 Feb 2025) EllapsedTime: 155.1 seconds RetCode: 0 Status: WARNINGS CheckDir: topGO.Rcheck Warnings: 1