Package: topGO Version: 2.59.0 Command: rm -rf topGO.buildbin-libdir && mkdir topGO.buildbin-libdir && E:\biocbuild\bbs-3.21-bioc\R\bin\R.exe CMD INSTALL --build --library=topGO.buildbin-libdir topGO_2.59.0.tar.gz StartedAt: 2025-02-01 08:25:18 -0500 (Sat, 01 Feb 2025) EndedAt: 2025-02-01 08:26:46 -0500 (Sat, 01 Feb 2025) EllapsedTime: 87.5 seconds RetCode: 0 Status: OK PackageFile: topGO_2.59.0.zip PackageFileSize: 1.951 MiB