Package: topGO Version: 2.59.0 Command: /home/biocbuild/bbs-3.21-bioc/R/bin/R CMD INSTALL topGO StartedAt: 2025-01-31 15:25:51 -0500 (Fri, 31 Jan 2025) EndedAt: 2025-01-31 15:26:10 -0500 (Fri, 31 Jan 2025) EllapsedTime: 18.4 seconds RetCode: 0 Status: OK