Package: topGO Version: 2.59.0 Command: /home/biocbuild/bbs-3.21-bioc/R/bin/R CMD build --keep-empty-dirs --no-resave-data topGO StartedAt: 2025-01-31 19:39:02 -0500 (Fri, 31 Jan 2025) EndedAt: 2025-01-31 19:41:05 -0500 (Fri, 31 Jan 2025) EllapsedTime: 123.2 seconds RetCode: 0 Status: OK PackageFile: topGO_2.59.0.tar.gz PackageFileSize: 1.908 MiB