Package: tidytof Version: 1.1.0 Command: rm -rf tidytof.buildbin-libdir && mkdir tidytof.buildbin-libdir && E:\biocbuild\bbs-3.21-bioc\R\bin\R.exe CMD INSTALL --build --library=tidytof.buildbin-libdir tidytof_1.1.0.tar.gz StartedAt: 2025-02-01 08:24:17 -0500 (Sat, 01 Feb 2025) EndedAt: 2025-02-01 08:25:34 -0500 (Sat, 01 Feb 2025) EllapsedTime: 76.9 seconds RetCode: 0 Status: OK PackageFile: tidytof_1.1.0.zip PackageFileSize: 2.391 MiB