Package: tidytof Version: 1.1.0 Command: /Library/Frameworks/R.framework/Resources/bin/R CMD check --install=check:tidytof.install-out.txt --library=/Library/Frameworks/R.framework/Resources/library --no-vignettes --timings tidytof_1.1.0.tar.gz StartedAt: 2025-01-31 23:34:01 -0500 (Fri, 31 Jan 2025) EndedAt: 2025-01-31 23:40:49 -0500 (Fri, 31 Jan 2025) EllapsedTime: 407.8 seconds RetCode: 0 Status: OK CheckDir: tidytof.Rcheck Warnings: 0