Package: tidytof Version: 1.1.0 Command: /Library/Frameworks/R.framework/Resources/bin/R CMD build --keep-empty-dirs --no-resave-data tidytof StartedAt: 2025-01-31 18:31:13 -0500 (Fri, 31 Jan 2025) EndedAt: 2025-01-31 18:35:16 -0500 (Fri, 31 Jan 2025) EllapsedTime: 243.4 seconds RetCode: 0 Status: OK PackageFile: tidytof_1.1.0.tar.gz PackageFileSize: 2.684 MiB