Package: tidytof Version: 1.1.0 Command: /home/biocbuild/R/R/bin/R CMD INSTALL tidytof StartedAt: 2025-01-29 20:25:43 -0000 (Wed, 29 Jan 2025) EndedAt: 2025-01-29 20:26:24 -0000 (Wed, 29 Jan 2025) EllapsedTime: 41.0 seconds RetCode: 0 Status: OK