Package: tidysbml Version: 1.1.0 Command: rm -rf tidysbml.buildbin-libdir && mkdir tidysbml.buildbin-libdir && /Users/biocbuild/BBS/utils/build-universal.sh tidysbml_1.1.0.tar.gz /Library/Frameworks/R.framework/Resources/bin/R tidysbml.buildbin-libdir StartedAt: 2025-02-01 00:43:12 -0500 (Sat, 01 Feb 2025) EndedAt: 2025-02-01 00:43:17 -0500 (Sat, 01 Feb 2025) EllapsedTime: 5.7 seconds RetCode: 0 Status: OK PackageFile: tidysbml_1.1.0.tgz PackageFileSize: 334.1 KiB