Package: tidyomics Version: 1.3.0 Command: /home/biocbuild/bbs-3.21-bioc/R/bin/R CMD check --install=check:tidyomics.install-out.txt --library=/home/biocbuild/bbs-3.21-bioc/R/site-library --timings tidyomics_1.3.0.tar.gz StartedAt: 2025-02-01 03:14:26 -0500 (Sat, 01 Feb 2025) EndedAt: 2025-02-01 03:18:02 -0500 (Sat, 01 Feb 2025) EllapsedTime: 216.3 seconds RetCode: 0 Status: WARNINGS CheckDir: tidyomics.Rcheck Warnings: 1