Package: tidyomics Version: 1.3.0 Command: /Library/Frameworks/R.framework/Resources/bin/R CMD check --install=check:tidyomics.install-out.txt --library=/Library/Frameworks/R.framework/Resources/library --no-vignettes --timings tidyomics_1.3.0.tar.gz StartedAt: 2025-01-31 23:33:06 -0500 (Fri, 31 Jan 2025) EndedAt: 2025-01-31 23:36:55 -0500 (Fri, 31 Jan 2025) EllapsedTime: 229.6 seconds RetCode: 0 Status: WARNINGS CheckDir: tidyomics.Rcheck Warnings: 1