Package: tidybulk Version: 1.19.0 Command: E:\biocbuild\bbs-3.21-bioc\R\bin\R.exe CMD INSTALL tidybulk StartedAt: 2025-02-02 16:04:24 -0500 (Sun, 02 Feb 2025) EndedAt: 2025-02-02 16:06:08 -0500 (Sun, 02 Feb 2025) EllapsedTime: 104.3 seconds RetCode: 0 Status: OK