Package: tidybulk Version: 1.19.0 Command: /home/biocbuild/bbs-3.21-bioc/R/bin/R CMD check --install=check:tidybulk.install-out.txt --library=/home/biocbuild/bbs-3.21-bioc/R/site-library --timings tidybulk_1.19.0.tar.gz StartedAt: 2025-02-03 03:10:37 -0500 (Mon, 03 Feb 2025) EndedAt: 2025-02-03 03:20:09 -0500 (Mon, 03 Feb 2025) EllapsedTime: 571.7 seconds RetCode: 0 Status: OK CheckDir: tidybulk.Rcheck Warnings: 0