Package: tidybulk Version: 1.19.0 Command: /Library/Frameworks/R.framework/Resources/bin/R CMD build --keep-empty-dirs --no-resave-data tidybulk StartedAt: 2025-01-31 17:49:26 -0500 (Fri, 31 Jan 2025) EndedAt: 2025-01-31 17:49:57 -0500 (Fri, 31 Jan 2025) EllapsedTime: 31.4 seconds RetCode: 0 Status: OK PackageFile: tidybulk_1.19.0.tar.gz PackageFileSize: 2.871 MiB