Package: tidySummarizedExperiment Version: 1.17.0 Command: /home/biocbuild/bbs-3.21-bioc/R/bin/R CMD build --keep-empty-dirs --no-resave-data tidySummarizedExperiment StartedAt: 2025-01-31 19:37:48 -0500 (Fri, 31 Jan 2025) EndedAt: 2025-01-31 19:38:29 -0500 (Fri, 31 Jan 2025) EllapsedTime: 41.1 seconds RetCode: 0 Status: OK PackageFile: tidySummarizedExperiment_1.17.0.tar.gz PackageFileSize: 359.1 KiB