Package: tanggle Version: 1.13.0 Command: /home/biocbuild/bbs-3.21-bioc/R/bin/R CMD check --install=check:tanggle.install-out.txt --library=/home/biocbuild/bbs-3.21-bioc/R/site-library --timings tanggle_1.13.0.tar.gz StartedAt: 2025-02-01 03:10:33 -0500 (Sat, 01 Feb 2025) EndedAt: 2025-02-01 03:11:30 -0500 (Sat, 01 Feb 2025) EllapsedTime: 57.1 seconds RetCode: 0 Status: OK CheckDir: tanggle.Rcheck Warnings: 0