Package: tRNAscanImport Version: 1.27.0 Command: /home/biocbuild/bbs-3.21-bioc/R/bin/R CMD INSTALL tRNAscanImport StartedAt: 2025-01-31 15:26:45 -0500 (Fri, 31 Jan 2025) EndedAt: 2025-01-31 15:27:22 -0500 (Fri, 31 Jan 2025) EllapsedTime: 37.1 seconds RetCode: 0 Status: OK