Package: systemPipeR Version: 2.13.0 Command: /home/biocbuild/R/R/bin/R CMD build --keep-empty-dirs --no-resave-data systemPipeR StartedAt: 2025-01-28 02:51:11 -0000 (Tue, 28 Jan 2025) EndedAt: 2025-01-28 02:53:01 -0000 (Tue, 28 Jan 2025) EllapsedTime: 110.1 seconds RetCode: 0 Status: OK PackageFile: systemPipeR_2.13.0.tar.gz PackageFileSize: 6.872 MiB