Package: switchde Version: 1.33.0 Command: /home/biocbuild/R/R/bin/R CMD INSTALL switchde StartedAt: 2025-01-29 19:41:27 -0000 (Wed, 29 Jan 2025) EndedAt: 2025-01-29 19:42:01 -0000 (Wed, 29 Jan 2025) EllapsedTime: 34.0 seconds RetCode: 0 Status: OK