Package: sva Version: 3.55.0 Command: /home/biocbuild/bbs-3.21-bioc/R/bin/R CMD build --keep-empty-dirs --no-resave-data sva StartedAt: 2025-01-31 19:33:16 -0500 (Fri, 31 Jan 2025) EndedAt: 2025-01-31 19:34:11 -0500 (Fri, 31 Jan 2025) EllapsedTime: 55.1 seconds RetCode: 0 Status: OK PackageFile: sva_3.55.0.tar.gz PackageFileSize: 442.8 KiB