Package: survcomp Version: 1.57.0 Command: rm -rf survcomp.buildbin-libdir && mkdir survcomp.buildbin-libdir && /Users/biocbuild/BBS/utils/build-universal.sh survcomp_1.57.0.tar.gz /Library/Frameworks/R.framework/Resources/bin/R survcomp.buildbin-libdir StartedAt: 2025-02-01 00:42:27 -0500 (Sat, 01 Feb 2025) EndedAt: 2025-02-01 00:42:45 -0500 (Sat, 01 Feb 2025) EllapsedTime: 18.7 seconds RetCode: 0 Status: OK PackageFile: survcomp_1.57.0.tgz PackageFileSize: 834.4 KiB