Package: surfaltr Version: 1.13.0 Command: E:\biocbuild\bbs-3.21-bioc\R\bin\R.exe CMD check --no-multiarch --install=check:surfaltr.install-out.txt --library=E:\biocbuild\bbs-3.21-bioc\R\library --no-vignettes --timings surfaltr_1.13.0.tar.gz StartedAt: 2025-02-03 05:46:51 -0500 (Mon, 03 Feb 2025) EndedAt: 2025-02-03 05:49:15 -0500 (Mon, 03 Feb 2025) EllapsedTime: 144.6 seconds RetCode: 0 Status: OK CheckDir: surfaltr.Rcheck Warnings: 0