Package: supersigs Version: 1.15.0 Command: /Library/Frameworks/R.framework/Resources/bin/R CMD INSTALL supersigs StartedAt: 2025-01-31 15:23:46 -0500 (Fri, 31 Jan 2025) EndedAt: 2025-01-31 15:23:59 -0500 (Fri, 31 Jan 2025) EllapsedTime: 12.2 seconds RetCode: 0 Status: OK