Package: struct Version: 1.19.0 Command: /home/biocbuild/bbs-3.21-bioc/R/bin/R CMD build --keep-empty-dirs --no-resave-data struct StartedAt: 2025-01-30 19:22:38 -0500 (Thu, 30 Jan 2025) EndedAt: 2025-01-30 19:23:17 -0500 (Thu, 30 Jan 2025) EllapsedTime: 39.0 seconds RetCode: 0 Status: OK PackageFile: struct_1.19.0.tar.gz PackageFileSize: 598.2 KiB