Package: struct Version: 1.19.0 Command: /Library/Frameworks/R.framework/Resources/bin/R CMD build --keep-empty-dirs --no-resave-data struct StartedAt: 2025-01-30 17:45:33 -0500 (Thu, 30 Jan 2025) EndedAt: 2025-01-30 17:45:50 -0500 (Thu, 30 Jan 2025) EllapsedTime: 17.2 seconds RetCode: 0 Status: OK PackageFile: struct_1.19.0.tar.gz PackageFileSize: 604.4 KiB