Package: strandCheckR Version: 1.25.0 Command: rm -rf strandCheckR.buildbin-libdir && mkdir strandCheckR.buildbin-libdir && /Users/biocbuild/BBS/utils/build-universal.sh strandCheckR_1.25.0.tar.gz /Library/Frameworks/R.framework/Resources/bin/R strandCheckR.buildbin-libdir StartedAt: 2025-02-01 00:42:10 -0500 (Sat, 01 Feb 2025) EndedAt: 2025-02-01 00:43:00 -0500 (Sat, 01 Feb 2025) EllapsedTime: 49.9 seconds RetCode: 0 Status: OK PackageFile: strandCheckR_1.25.0.tgz PackageFileSize: 1.295 MiB