Package: statTarget Version: 1.37.0 Command: chmod a+r statTarget -R && E:\biocbuild\bbs-3.21-bioc\R\bin\R.exe CMD build --keep-empty-dirs --no-resave-data statTarget StartedAt: 2025-01-31 21:41:43 -0500 (Fri, 31 Jan 2025) EndedAt: 2025-01-31 21:42:07 -0500 (Fri, 31 Jan 2025) EllapsedTime: 24.4 seconds RetCode: 0 Status: OK PackageFile: statTarget_1.37.0.tar.gz PackageFileSize: 779.3 KiB