Package: statTarget Version: 1.37.0 Command: /Library/Frameworks/R.framework/Resources/bin/R CMD build --keep-empty-dirs --no-resave-data statTarget StartedAt: 2025-01-31 18:26:36 -0500 (Fri, 31 Jan 2025) EndedAt: 2025-01-31 18:26:49 -0500 (Fri, 31 Jan 2025) EllapsedTime: 12.7 seconds RetCode: 0 Status: OK PackageFile: statTarget_1.37.0.tar.gz PackageFileSize: 779.1 KiB