Package: standR Version: 1.11.1 Command: chmod a+r standR -R && E:\biocbuild\bbs-3.21-bioc\R\bin\R.exe CMD build --keep-empty-dirs --no-resave-data standR StartedAt: 2025-01-31 21:41:19 -0500 (Fri, 31 Jan 2025) EndedAt: 2025-01-31 21:43:15 -0500 (Fri, 31 Jan 2025) EllapsedTime: 116.3 seconds RetCode: 0 Status: OK PackageFile: standR_1.11.1.tar.gz PackageFileSize: 2.002 MiB